BEGIN:VCALENDAR
VERSION:2.0
PRODID:-//wp-events-plugin.com//7.2.3.1//EN
TZID:Europe/Paris
X-WR-TIMEZONE:Europe/Paris
BEGIN:VEVENT
UID:228@map5.mi.parisdescartes.fr
DTSTART;TZID=Europe/Paris:20240628T110000
DTEND;TZID=Europe/Paris:20240628T120000
DTSTAMP:20240612T142316Z
URL:https://map5.mi.parisdescartes.fr/events/aline-lefebvre-lepot-cnrs-fed
 eration-de-mathematiques-de-centralesupelec/
SUMMARY:Aline Lefebvre-Lepot (CNRS\, Fédération de Mathématiques de Cent
 raleSupélec)
DESCRIPTION:Contacts dans les matériaux granulaires : des schémas numéri
 ques basés sur des problèmes d’optimisation convexe
CATEGORIES:Colloquium du MAP5
LOCATION:Salle du Conseil\, Espace Turing\, 45 rue des Saints-Pères\, Pari
 s\, 75006\, France
X-APPLE-STRUCTURED-LOCATION;VALUE=URI;X-ADDRESS=45 rue des Saints-Pères\, 
 Paris\, 75006\, France;X-APPLE-RADIUS=100;X-TITLE=Salle du Conseil\, Espac
 e Turing:geo:0,0
END:VEVENT
BEGIN:VTIMEZONE
TZID:Europe/Paris
X-LIC-LOCATION:Europe/Paris
BEGIN:DAYLIGHT
DTSTART:20240331T030000
TZOFFSETFROM:+0100
TZOFFSETTO:+0200
TZNAME:CEST
END:DAYLIGHT
END:VTIMEZONE
END:VCALENDAR