BEGIN:VCALENDAR
VERSION:2.0
PRODID:-//wp-events-plugin.com//7.2.3.1//EN
TZID:Europe/Paris
X-WR-TIMEZONE:Europe/Paris
BEGIN:VEVENT
UID:191@map5.mi.parisdescartes.fr
DTSTART;TZID=Europe/Paris:20231208T093000
DTEND;TZID=Europe/Paris:20231208T103000
DTSTAMP:20231205T192541Z
URL:https://map5.mi.parisdescartes.fr/events/jonathan-vacher/
SUMMARY:Jonathan Vacher
DESCRIPTION:Environnement de développement CPU/GPU PyTorch
CATEGORIES:Groupe de travail Image
LOCATION:Salle de Réunion\, 45 rue des Saints-Pères\, Paris\, France
X-APPLE-STRUCTURED-LOCATION;VALUE=URI;X-ADDRESS=45 rue des Saints-Pères\, 
 Paris\, France;X-APPLE-RADIUS=100;X-TITLE=Salle de Réunion:geo:0,0
END:VEVENT
BEGIN:VEVENT
UID:242@map5.mi.parisdescartes.fr
DTSTART;TZID=Europe/Paris:20240607T110000
DTEND;TZID=Europe/Paris:20240607T120000
DTSTAMP:20240607T084254Z
URL:https://map5.mi.parisdescartes.fr/events/joan-gaunes-jonathan-vacher/
SUMMARY:Joan Gaunès & Jonathan Vacher
DESCRIPTION:initiation / mise à niveau / perfectionnement sur la différen
 tiation automatique
CATEGORIES:Groupe de travail Image
LOCATION:Salle 705K\, 45 rue des Saints-Pères\, Paris\, France
X-APPLE-STRUCTURED-LOCATION;VALUE=URI;X-ADDRESS=45 rue des Saints-Pères\, 
 Paris\, France;X-APPLE-RADIUS=100;X-TITLE=Salle 705K:geo:0,0
END:VEVENT
BEGIN:VEVENT
UID:272@map5.mi.parisdescartes.fr
DTSTART;TZID=Europe/Paris:20240927T093000
DTEND;TZID=Europe/Paris:20240927T103000
DTSTAMP:20240924T140842Z
URL:https://map5.mi.parisdescartes.fr/events/thomas-moreau/
SUMMARY:Thomas Moreau (Parietal - Inria Saclay)
DESCRIPTION:Benchopt : Making your ML and optimization benchmarks simple an
 d open
CATEGORIES:Groupe de travail Image
LOCATION:Salle du Conseil\, Espace Turing\, 45 rue des Saints-Pères\, Pari
 s\, 75006\, France
X-APPLE-STRUCTURED-LOCATION;VALUE=URI;X-ADDRESS=45 rue des Saints-Pères\, 
 Paris\, 75006\, France;X-APPLE-RADIUS=100;X-TITLE=Salle du Conseil\, Espac
 e Turing:geo:0,0
END:VEVENT
BEGIN:VEVENT
UID:273@map5.mi.parisdescartes.fr
DTSTART;TZID=Europe/Paris:20241108T093000
DTEND;TZID=Europe/Paris:20241108T103000
DTSTAMP:20241104T095933Z
URL:https://map5.mi.parisdescartes.fr/events/tba-15/
SUMMARY:Samuel Hurault (ENS Paris)
DESCRIPTION:Convergence analysis of Plug-and-Play methods for image inverse
  problems
CATEGORIES:Groupe de travail Image
LOCATION:Salle du Conseil\, Espace Turing\, 45 rue des Saints-Pères\, Pari
 s\, 75006\, France
X-APPLE-STRUCTURED-LOCATION;VALUE=URI;X-ADDRESS=45 rue des Saints-Pères\, 
 Paris\, 75006\, France;X-APPLE-RADIUS=100;X-TITLE=Salle du Conseil\, Espac
 e Turing:geo:0,0
END:VEVENT
BEGIN:VEVENT
UID:313@map5.mi.parisdescartes.fr
DTSTART;TZID=Europe/Paris:20241122T093000
DTEND;TZID=Europe/Paris:20241122T103000
DTSTAMP:20241118T204020Z
URL:https://map5.mi.parisdescartes.fr/events/romain-petit-ens-paris/
SUMMARY:Romain Petit (ENS Paris)
DESCRIPTION:Relèvement convexe de problèmes inverses pour des équations 
 aux dérivées partielles
CATEGORIES:Groupe de travail Image
LOCATION:Salle du Conseil\, Espace Turing\, 45 rue des Saints-Pères\, Pari
 s\, 75006\, France
X-APPLE-STRUCTURED-LOCATION;VALUE=URI;X-ADDRESS=45 rue des Saints-Pères\, 
 Paris\, 75006\, France;X-APPLE-RADIUS=100;X-TITLE=Salle du Conseil\, Espac
 e Turing:geo:0,0
END:VEVENT
BEGIN:VEVENT
UID:274@map5.mi.parisdescartes.fr
DTSTART;TZID=Europe/Paris:20241206T093000
DTEND;TZID=Europe/Paris:20241206T103000
DTSTAMP:20241203T091056Z
URL:https://map5.mi.parisdescartes.fr/events/tba-16/
SUMMARY:Matthieu Terris (INRIA)
DESCRIPTION:FiRe: Fixed-points of Restoration Priors for Solving Inverse Pr
 oblems\n
CATEGORIES:Groupe de travail Image
LOCATION:Salle du Conseil\, Espace Turing\, 45 rue des Saints-Pères\, Pari
 s\, 75006\, France
X-APPLE-STRUCTURED-LOCATION;VALUE=URI;X-ADDRESS=45 rue des Saints-Pères\, 
 Paris\, 75006\, France;X-APPLE-RADIUS=100;X-TITLE=Salle du Conseil\, Espac
 e Turing:geo:0,0
END:VEVENT
BEGIN:VEVENT
UID:275@map5.mi.parisdescartes.fr
DTSTART;TZID=Europe/Paris:20250117T093000
DTEND;TZID=Europe/Paris:20250117T103000
DTSTAMP:20250109T133642Z
URL:https://map5.mi.parisdescartes.fr/events/tba-17/
SUMMARY:Clément Bonet (ENSAE/CREST)
DESCRIPTION:Mirror and Preconditioned Gradient Descent in Wasserstein Space
CATEGORIES:Groupe de travail Image
LOCATION:Salle du Conseil\, Espace Turing\, 45 rue des Saints-Pères\, Pari
 s\, 75006\, France
X-APPLE-STRUCTURED-LOCATION;VALUE=URI;X-ADDRESS=45 rue des Saints-Pères\, 
 Paris\, 75006\, France;X-APPLE-RADIUS=100;X-TITLE=Salle du Conseil\, Espac
 e Turing:geo:0,0
END:VEVENT
BEGIN:VEVENT
UID:276@map5.mi.parisdescartes.fr
DTSTART;TZID=Europe/Paris:20250214T093000
DTEND;TZID=Europe/Paris:20250214T103000
DTSTAMP:20250213T112952Z
URL:https://map5.mi.parisdescartes.fr/events/tba-18/
SUMMARY:Jonathan Vacher : paper discussion
DESCRIPTION:An analytic theory of creativity in convolutional diffusion mod
 els
CATEGORIES:Groupe de travail Image
LOCATION:Salle du Conseil\, Espace Turing\, 45 rue des Saints-Pères\, Pari
 s\, 75006\, France
X-APPLE-STRUCTURED-LOCATION;VALUE=URI;X-ADDRESS=45 rue des Saints-Pères\, 
 Paris\, 75006\, France;X-APPLE-RADIUS=100;X-TITLE=Salle du Conseil\, Espac
 e Turing:geo:0,0
END:VEVENT
BEGIN:VEVENT
UID:278@map5.mi.parisdescartes.fr
DTSTART;TZID=Europe/Paris:20250411T093000
DTEND;TZID=Europe/Paris:20250411T103000
DTSTAMP:20250403T125946Z
URL:https://map5.mi.parisdescartes.fr/events/tba-20/
SUMMARY:Eloi Tanguy
DESCRIPTION:Méthodes à Noyau
CATEGORIES:Groupe de travail Image
LOCATION:Salle du Conseil\, Espace Turing\, 45 rue des Saints-Pères\, Pari
 s\, 75006\, France
X-APPLE-STRUCTURED-LOCATION;VALUE=URI;X-ADDRESS=45 rue des Saints-Pères\, 
 Paris\, 75006\, France;X-APPLE-RADIUS=100;X-TITLE=Salle du Conseil\, Espac
 e Turing:geo:0,0
END:VEVENT
BEGIN:VEVENT
UID:279@map5.mi.parisdescartes.fr
DTSTART;TZID=Europe/Paris:20250613T093000
DTEND;TZID=Europe/Paris:20250613T103000
DTSTAMP:20250602T132239Z
URL:https://map5.mi.parisdescartes.fr/events/tba-21/
SUMMARY:Présentation des sujets des stagiaires
DESCRIPTION:TBA
CATEGORIES:Groupe de travail Image
LOCATION:Salle du Conseil\, Espace Turing\, 45 rue des Saints-Pères\, Pari
 s\, 75006\, France
X-APPLE-STRUCTURED-LOCATION;VALUE=URI;X-ADDRESS=45 rue des Saints-Pères\, 
 Paris\, 75006\, France;X-APPLE-RADIUS=100;X-TITLE=Salle du Conseil\, Espac
 e Turing:geo:0,0
END:VEVENT
BEGIN:VEVENT
UID:280@map5.mi.parisdescartes.fr
DTSTART;TZID=Europe/Paris:20250620T093000
DTEND;TZID=Europe/Paris:20250620T103000
DTSTAMP:20250620T090500Z
URL:https://map5.mi.parisdescartes.fr/events/tba-22/
SUMMARY:Julie Delon
DESCRIPTION:Introduction au flow matching
CATEGORIES:Groupe de travail Image
LOCATION:Salle du Conseil\, Espace Turing\, 45 rue des Saints-Pères\, Pari
 s\, 75006\, France
X-APPLE-STRUCTURED-LOCATION;VALUE=URI;X-ADDRESS=45 rue des Saints-Pères\, 
 Paris\, 75006\, France;X-APPLE-RADIUS=100;X-TITLE=Salle du Conseil\, Espac
 e Turing:geo:0,0
END:VEVENT
BEGIN:VEVENT
UID:409@map5.mi.parisdescartes.fr
DTSTART;TZID=Europe/Paris:20251114T093000
DTEND;TZID=Europe/Paris:20251114T103000
DTSTAMP:20260127T151828Z
URL:https://map5.mi.parisdescartes.fr/events/gt-image-elodie-maignant/
SUMMARY:Élodie Maignant (Danmarks Tekniske Universitet)
DESCRIPTION:Learning representations of non-Euclidean data
CATEGORIES:Groupe de travail Image
LOCATION:Salle du Conseil\, Espace Turing\, 45 rue des Saints-Pères\, Pari
 s\, 75006\, France
X-APPLE-STRUCTURED-LOCATION;VALUE=URI;X-ADDRESS=45 rue des Saints-Pères\, 
 Paris\, 75006\, France;X-APPLE-RADIUS=100;X-TITLE=Salle du Conseil\, Espac
 e Turing:geo:0,0
END:VEVENT
BEGIN:VEVENT
UID:410@map5.mi.parisdescartes.fr
DTSTART;TZID=Europe/Paris:20251212T093000
DTEND;TZID=Europe/Paris:20251212T103000
DTSTAMP:20260127T151852Z
URL:https://map5.mi.parisdescartes.fr/events/tba-51/
SUMMARY:Jonathan Vacher (MAP5)
DESCRIPTION:Deep Neural Networks as Iterated Function Systems and a General
 ization Bound
CATEGORIES:Groupe de travail Image
LOCATION:Salle du Conseil\, Espace Turing\, 45 rue des Saints-Pères\, Pari
 s\, 75006\, France
X-APPLE-STRUCTURED-LOCATION;VALUE=URI;X-ADDRESS=45 rue des Saints-Pères\, 
 Paris\, 75006\, France;X-APPLE-RADIUS=100;X-TITLE=Salle du Conseil\, Espac
 e Turing:geo:0,0
END:VEVENT
BEGIN:VEVENT
UID:437@map5.mi.parisdescartes.fr
DTSTART;TZID=Europe/Paris:20251219T093000
DTEND;TZID=Europe/Paris:20251219T103000
DTSTAMP:20251127T174340Z
URL:https://map5.mi.parisdescartes.fr/events/jerome-gilles-san-diego-state
 -university/
SUMMARY:Jérôme Gilles (San Diego State University)
DESCRIPTION:Ondelette empiriques
CATEGORIES:Groupe de travail Image
LOCATION:Salle de Réunion\, 45 rue des Saints-Pères\, Paris\, France
X-APPLE-STRUCTURED-LOCATION;VALUE=URI;X-ADDRESS=45 rue des Saints-Pères\, 
 Paris\, France;X-APPLE-RADIUS=100;X-TITLE=Salle de Réunion:geo:0,0
END:VEVENT
BEGIN:VEVENT
UID:416@map5.mi.parisdescartes.fr
DTSTART;TZID=Europe/Paris:20260123T093000
DTEND;TZID=Europe/Paris:20260123T103000
DTSTAMP:20260127T151908Z
URL:https://map5.mi.parisdescartes.fr/events/tba-57/
SUMMARY:Rémy Abergel (MAP5)
DESCRIPTION:Mise en correspondance de nuages convectifs
CATEGORIES:Groupe de travail Image
LOCATION:Salle du Conseil\, Espace Turing\, 45 rue des Saints-Pères\, Pari
 s\, 75006\, France
X-APPLE-STRUCTURED-LOCATION;VALUE=URI;X-ADDRESS=45 rue des Saints-Pères\, 
 Paris\, 75006\, France;X-APPLE-RADIUS=100;X-TITLE=Salle du Conseil\, Espac
 e Turing:geo:0,0
END:VEVENT
BEGIN:VEVENT
UID:411@map5.mi.parisdescartes.fr
DTSTART;TZID=Europe/Paris:20260220T093000
DTEND;TZID=Europe/Paris:20260220T103000
DTSTAMP:20260216T135845Z
URL:https://map5.mi.parisdescartes.fr/events/tba-52/
SUMMARY:[ANNULÉ]
DESCRIPTION:
CATEGORIES:Groupe de travail Image
LOCATION:Salle du Conseil\, Espace Turing\, 45 rue des Saints-Pères\, Pari
 s\, 75006\, France
X-APPLE-STRUCTURED-LOCATION;VALUE=URI;X-ADDRESS=45 rue des Saints-Pères\, 
 Paris\, 75006\, France;X-APPLE-RADIUS=100;X-TITLE=Salle du Conseil\, Espac
 e Turing:geo:0,0
END:VEVENT
BEGIN:VEVENT
UID:412@map5.mi.parisdescartes.fr
DTSTART;TZID=Europe/Paris:20260313T093000
DTEND;TZID=Europe/Paris:20260313T103000
DTSTAMP:20260312T071540Z
URL:https://map5.mi.parisdescartes.fr/events/tba-53/
SUMMARY:Diarra Fall (LITIS\, Université Rouen Normandie)
DESCRIPTION:Bayesian Approaches to Inverse Problems: Deep Regularization an
 d Uncertainty Quantification
CATEGORIES:Groupe de travail Image
LOCATION:Salle du Conseil\, Espace Turing\, 45 rue des Saints-Pères\, Pari
 s\, 75006\, France
X-APPLE-STRUCTURED-LOCATION;VALUE=URI;X-ADDRESS=45 rue des Saints-Pères\, 
 Paris\, 75006\, France;X-APPLE-RADIUS=100;X-TITLE=Salle du Conseil\, Espac
 e Turing:geo:0,0
END:VEVENT
BEGIN:VEVENT
UID:462@map5.mi.parisdescartes.fr
DTSTART;TZID=Europe/Paris:20260327T093000
DTEND;TZID=Europe/Paris:20260327T103000
DTSTAMP:20260319T085316Z
URL:https://map5.mi.parisdescartes.fr/events/antoine-godichon-baggioni/
SUMMARY:Antoine Godichon-Baggioni (Sorbonne Université)
DESCRIPTION:Biased stochastic approximation and applications
CATEGORIES:Groupe de travail Image
LOCATION:Salle du Conseil\, Espace Turing\, 45 rue des Saints-Pères\, Pari
 s\, 75006\, France
X-APPLE-STRUCTURED-LOCATION;VALUE=URI;X-ADDRESS=45 rue des Saints-Pères\, 
 Paris\, 75006\, France;X-APPLE-RADIUS=100;X-TITLE=Salle du Conseil\, Espac
 e Turing:geo:0,0
END:VEVENT
BEGIN:VEVENT
UID:466@map5.mi.parisdescartes.fr
DTSTART;TZID=Europe/Paris:20260403T150000
DTEND;TZID=Europe/Paris:20260403T160000
DTSTAMP:20260325T082840Z
URL:https://map5.mi.parisdescartes.fr/events/clement-royer-universite-pari
 s-dauphine-psl/
SUMMARY:Clement Royer (Université Paris Dauphine-PSL)
DESCRIPTION:Méthodes de programmation linéaire revisitées pour problème
 s non convexes de reconstruction de phase et transport optimal déséquili
 bré
CATEGORIES:Groupe de travail Image
LOCATION:Salle du Conseil\, Espace Turing\, 45 rue des Saints-Pères\, Pari
 s\, 75006\, France
X-APPLE-STRUCTURED-LOCATION;VALUE=URI;X-ADDRESS=45 rue des Saints-Pères\, 
 Paris\, 75006\, France;X-APPLE-RADIUS=100;X-TITLE=Salle du Conseil\, Espac
 e Turing:geo:0,0
END:VEVENT
BEGIN:VEVENT
UID:413@map5.mi.parisdescartes.fr
DTSTART;TZID=Europe/Paris:20260410T093000
DTEND;TZID=Europe/Paris:20260410T103000
DTSTAMP:20260409T084501Z
URL:https://map5.mi.parisdescartes.fr/events/tba-54/
SUMMARY:Alasdair Newson (Sorbonne Université / ISIR lab)
DESCRIPTION:Modèles génératifs pour la restauration des images et des vi
 déos
CATEGORIES:Groupe de travail Image
LOCATION:Salle du Conseil\, Espace Turing\, 45 rue des Saints-Pères\, Pari
 s\, 75006\, France
X-APPLE-STRUCTURED-LOCATION;VALUE=URI;X-ADDRESS=45 rue des Saints-Pères\, 
 Paris\, 75006\, France;X-APPLE-RADIUS=100;X-TITLE=Salle du Conseil\, Espac
 e Turing:geo:0,0
END:VEVENT
BEGIN:VEVENT
UID:470@map5.mi.parisdescartes.fr
DTSTART;TZID=Europe/Paris:20260410T150000
DTEND;TZID=Europe/Paris:20260410T160000
DTSTAMP:20260407T144527Z
URL:https://map5.mi.parisdescartes.fr/events/francois-xavier-vialard-ligm-
 universite-gustave-eiffel/
SUMMARY:François-Xavier Vialard (LIGM\, Université Gustave Eiffel)
DESCRIPTION:Entropic Gromov-Wasserstein for shape matching at scale\, almos
 t\nbeyond squared norms !
CATEGORIES:Groupe de travail Image
LOCATION:Salle de Réunion Turing (747)\, 45 Rue des Saints-Pères\, Paris\
 , France
X-APPLE-STRUCTURED-LOCATION;VALUE=URI;X-ADDRESS=45 Rue des Saints-Pères\, 
 Paris\, France;X-APPLE-RADIUS=100;X-TITLE=Salle de Réunion Turing (747):g
 eo:0,0
END:VEVENT
BEGIN:VEVENT
UID:414@map5.mi.parisdescartes.fr
DTSTART;TZID=Europe/Paris:20260529T093000
DTEND;TZID=Europe/Paris:20260529T103000
DTSTAMP:20260216T135929Z
URL:https://map5.mi.parisdescartes.fr/events/tba-55/
SUMMARY:Simone Azeglio
DESCRIPTION:Diffusion Model and Natural Image Manifold
CATEGORIES:Groupe de travail Image
LOCATION:Salle du Conseil\, Espace Turing\, 45 rue des Saints-Pères\, Pari
 s\, 75006\, France
X-APPLE-STRUCTURED-LOCATION;VALUE=URI;X-ADDRESS=45 rue des Saints-Pères\, 
 Paris\, 75006\, France;X-APPLE-RADIUS=100;X-TITLE=Salle du Conseil\, Espac
 e Turing:geo:0,0
END:VEVENT
BEGIN:VEVENT
UID:415@map5.mi.parisdescartes.fr
DTSTART;TZID=Europe/Paris:20260626T093000
DTEND;TZID=Europe/Paris:20260626T103000
DTSTAMP:20260216T135944Z
URL:https://map5.mi.parisdescartes.fr/events/tba-56/
SUMMARY:TBA
DESCRIPTION:
CATEGORIES:Groupe de travail Image
LOCATION:Salle du Conseil\, Espace Turing\, 45 rue des Saints-Pères\, Pari
 s\, 75006\, France
X-APPLE-STRUCTURED-LOCATION;VALUE=URI;X-ADDRESS=45 rue des Saints-Pères\, 
 Paris\, 75006\, France;X-APPLE-RADIUS=100;X-TITLE=Salle du Conseil\, Espac
 e Turing:geo:0,0
END:VEVENT
BEGIN:VTIMEZONE
TZID:Europe/Paris
X-LIC-LOCATION:Europe/Paris
BEGIN:STANDARD
DTSTART:20231029T020000
TZOFFSETFROM:+0200
TZOFFSETTO:+0100
TZNAME:CET
END:STANDARD
BEGIN:DAYLIGHT
DTSTART:20240331T030000
TZOFFSETFROM:+0100
TZOFFSETTO:+0200
TZNAME:CEST
END:DAYLIGHT
BEGIN:STANDARD
DTSTART:20241027T020000
TZOFFSETFROM:+0200
TZOFFSETTO:+0100
TZNAME:CET
END:STANDARD
BEGIN:DAYLIGHT
DTSTART:20250330T030000
TZOFFSETFROM:+0100
TZOFFSETTO:+0200
TZNAME:CEST
END:DAYLIGHT
BEGIN:STANDARD
DTSTART:20251026T020000
TZOFFSETFROM:+0200
TZOFFSETTO:+0100
TZNAME:CET
END:STANDARD
BEGIN:DAYLIGHT
DTSTART:20260329T030000
TZOFFSETFROM:+0100
TZOFFSETTO:+0200
TZNAME:CEST
END:DAYLIGHT
END:VTIMEZONE
END:VCALENDAR