BEGIN:VCALENDAR
VERSION:2.0
PRODID:-//wp-events-plugin.com//7.2.3.1//EN
TZID:Europe/Paris
X-WR-TIMEZONE:Europe/Paris
BEGIN:VEVENT
UID:306@map5.mi.parisdescartes.fr
DTSTART;TZID=Europe/Paris:20241122T153000
DTEND;TZID=Europe/Paris:20241122T163000
DTSTAMP:20241116T103814Z
URL:https://map5.mi.parisdescartes.fr/events/chabane-meziane-3/
SUMMARY:Chabane Méziane
DESCRIPTION:Modélisation mathématique du transport mucociliaire dans les 
 bronches pulmonaires
CATEGORIES:Groupe de Travail des Éphémères
LOCATION:Salle Vieussens D\, 45 rue des Saints-Pères\, Paris\, 75006\, Fra
 nce
X-APPLE-STRUCTURED-LOCATION;VALUE=URI;X-ADDRESS=45 rue des Saints-Pères\, 
 Paris\, 75006\, France;X-APPLE-RADIUS=100;X-TITLE=Salle Vieussens D:geo:0,
 0
END:VEVENT
BEGIN:VTIMEZONE
TZID:Europe/Paris
X-LIC-LOCATION:Europe/Paris
BEGIN:STANDARD
DTSTART:20241027T020000
TZOFFSETFROM:+0200
TZOFFSETTO:+0100
TZNAME:CET
END:STANDARD
END:VTIMEZONE
END:VCALENDAR