BEGIN:VCALENDAR
VERSION:2.0
PRODID:-//wp-events-plugin.com//7.2.3.1//EN
TZID:Europe/Paris
X-WR-TIMEZONE:Europe/Paris
BEGIN:VEVENT
UID:437@map5.mi.parisdescartes.fr
DTSTART;TZID=Europe/Paris:20251219T093000
DTEND;TZID=Europe/Paris:20251219T103000
DTSTAMP:20251127T174340Z
URL:https://map5.mi.parisdescartes.fr/events/jerome-gilles-san-diego-state
 -university/
SUMMARY:Jérôme Gilles (San Diego State University)
DESCRIPTION:Ondelette empiriques
CATEGORIES:Groupe de travail Image
LOCATION:Salle de Réunion\, 45 rue des Saints-Pères\, Paris\, France
X-APPLE-STRUCTURED-LOCATION;VALUE=URI;X-ADDRESS=45 rue des Saints-Pères\, 
 Paris\, France;X-APPLE-RADIUS=100;X-TITLE=Salle de Réunion:geo:0,0
END:VEVENT
BEGIN:VTIMEZONE
TZID:Europe/Paris
X-LIC-LOCATION:Europe/Paris
BEGIN:STANDARD
DTSTART:20251026T020000
TZOFFSETFROM:+0200
TZOFFSETTO:+0100
TZNAME:CET
END:STANDARD
END:VTIMEZONE
END:VCALENDAR