BEGIN:VCALENDAR
VERSION:2.0
PRODID:-//wp-events-plugin.com//7.2.3.1//EN
TZID:Europe/Paris
X-WR-TIMEZONE:Europe/Paris
BEGIN:VEVENT
UID:189@map5.mi.parisdescartes.fr
DTSTART;TZID=Europe/Paris:20240216T110000
DTEND;TZID=Europe/Paris:20240216T120000
DTSTAMP:20240202T113849Z
URL:https://map5.mi.parisdescartes.fr/events/ozan-oktem-numerik-optimering
 -system-kth-royal-institute-of-technology/
SUMMARY:Ozan Öktem (NUMERIK\, OPTIMERING & SYSTEM\, KTH Royal Institute of
  Technology)
DESCRIPTION:Applications of Riemannian geometry in protein dynamics and sin
 gle particle cryo-EM\n
CATEGORIES:Colloquium du MAP5
LOCATION:Salle du Conseil\, Espace Turing\, 45 rue des Saints-Pères\, Pari
 s\, 75006\, France
X-APPLE-STRUCTURED-LOCATION;VALUE=URI;X-ADDRESS=45 rue des Saints-Pères\, 
 Paris\, 75006\, France;X-APPLE-RADIUS=100;X-TITLE=Salle du Conseil\, Espac
 e Turing:geo:0,0
END:VEVENT
BEGIN:VTIMEZONE
TZID:Europe/Paris
X-LIC-LOCATION:Europe/Paris
BEGIN:STANDARD
DTSTART:20231029T020000
TZOFFSETFROM:+0200
TZOFFSETTO:+0100
TZNAME:CET
END:STANDARD
END:VTIMEZONE
END:VCALENDAR